BEGIN:VCALENDAR
VERSION:2.0
PRODID:-//APEIRL - ECPv6.3.6//NONSGML v1.0//EN
CALSCALE:GREGORIAN
METHOD:PUBLISH
X-WR-CALNAME:APEIRL
X-ORIGINAL-URL:https://apeirl.fr
X-WR-CALDESC:évènements pour APEIRL
REFRESH-INTERVAL;VALUE=DURATION:PT1H
X-Robots-Tag:noindex
X-PUBLISHED-TTL:PT1H
BEGIN:VTIMEZONE
TZID:Europe/Paris
BEGIN:DAYLIGHT
TZOFFSETFROM:+0100
TZOFFSETTO:+0200
TZNAME:CEST
DTSTART:20240331T010000
END:DAYLIGHT
BEGIN:STANDARD
TZOFFSETFROM:+0200
TZOFFSETTO:+0100
TZNAME:CET
DTSTART:20241027T010000
END:STANDARD
END:VTIMEZONE
BEGIN:VEVENT
DTSTART;TZID=Europe/Paris:20240625T170000
DTEND;TZID=Europe/Paris:20240625T233000
DTSTAMP:20260421T163925
CREATED:20240426T092928Z
LAST-MODIFIED:20240426T092929Z
UID:4096-1719334800-1719358200@apeirl.fr
SUMMARY:Bal de fin d’année des CM2
DESCRIPTION:Bal de fin d’année des CM2 prévu le 25 juin 2024 au soir => tenue de soirée exigée
URL:https://apeirl.fr/evenement/bal-de-fin-dannee-des-cm2/
ATTACH;FMTTYPE=image/jpeg:https://apeirl.fr/wp-content/uploads/2024/04/child-getting-ready-2023-12-15-01-20-57-utc-scaled.jpg
END:VEVENT
BEGIN:VEVENT
DTSTART;TZID=Europe/Paris:20240614T170000
DTEND;TZID=Europe/Paris:20240614T233000
DTSTAMP:20260421T163925
CREATED:20240426T092107Z
LAST-MODIFIED:20240426T092107Z
UID:4093-1718384400-1718407800@apeirl.fr
SUMMARY:Grande veillée à l’école
DESCRIPTION:Grande veillée à l’école prévu le vendredi 14 juin 2024 pour les CM2\, horaire de fin à 23h/minuit. Dîner prévu à l’école ainsi qu’un Escape Game. Financement total par la subvention de la mairie.
URL:https://apeirl.fr/evenement/grande-veillee-a-lecole/
ATTACH;FMTTYPE=image/jpeg:https://apeirl.fr/wp-content/uploads/2024/04/winter-solstice-2023-11-27-05-04-53-utc-scaled-e1714123629850.jpg
END:VEVENT
BEGIN:VEVENT
DTSTART;TZID=Europe/Paris:20240528T070000
DTEND;TZID=Europe/Paris:20240528T193000
DTSTAMP:20260421T163925
CREATED:20240426T091456Z
LAST-MODIFIED:20240426T091457Z
UID:4090-1716879600-1716924600@apeirl.fr
SUMMARY:Visite à 33 mètres sous terre
DESCRIPTION:Sortie prévue le mardi 28 mai 2024 : Visite à 33 mètres sous terre\, départ prévu à 7h du matin et retour à 19h30 pour les CM1/CM2. Visite d’un atelier de blé et accès au mini-golf (37 trous).
URL:https://apeirl.fr/evenement/visite-a-33-metres-sous-terre/
ATTACH;FMTTYPE=image/jpeg:https://apeirl.fr/wp-content/uploads/2024/04/cueva-de-los-verdes-a-place-to-visit-on-the-island-2023-11-27-05-28-33-utc-scaled.jpg
END:VEVENT
END:VCALENDAR